BEGIN:VCALENDAR
VERSION:2.0
PRODID:-//Zen Ecuador - ECPv6.14.0//NONSGML v1.0//EN
CALSCALE:GREGORIAN
METHOD:PUBLISH
X-ORIGINAL-URL:http://zenecuador.org
X-WR-CALDESC:Eventos para Zen Ecuador
REFRESH-INTERVAL;VALUE=DURATION:PT1H
X-Robots-Tag:noindex
X-PUBLISHED-TTL:PT1H
BEGIN:VTIMEZONE
TZID:UTC
BEGIN:STANDARD
TZOFFSETFROM:+0000
TZOFFSETTO:+0000
TZNAME:UTC
DTSTART:20260101T000000
END:STANDARD
END:VTIMEZONE
BEGIN:VEVENT
DTSTART;TZID=UTC:20261204T170000
DTEND;TZID=UTC:20261206T150000
DTSTAMP:20260420T174029
CREATED:20240201T162723Z
LAST-MODIFIED:20260119T203959Z
UID:831-1796403600-1796569200@zenecuador.org
SUMMARY:Sesshin Rohatsu
DESCRIPTION:
URL:http://zenecuador.org/event/sesshin-rohatsu-4/
LOCATION:Templo Zen Senkuji\, Templo Zen Zenkuji\, Tena\, Napo\, Ecuador
CATEGORIES:Sesshin
END:VEVENT
BEGIN:VEVENT
DTSTART;TZID=UTC:20261228T150000
DTEND;TZID=UTC:20270103T150000
DTSTAMP:20260420T174029
CREATED:20240201T162816Z
LAST-MODIFIED:20260119T205535Z
UID:833-1798470000-1798988400@zenecuador.org
SUMMARY:Sesshin de fin de año
DESCRIPTION:Todos bienvenidos al Sesshin de Fin de Año del Templo Senkuji (Tena\, Ecuador)\, dirigido por el maestro Gyula Mokurin Barna.\nEl 31 de diciembre tendremos fiesta de año nuevo\, con la tradicional ceremonia de las campanadas a medianoche.\nApto para principiantes.\nInformación:\nWhatsapp: 0593-996100391\nemail: zenecuador@gmail.com\n\n\n\n\n\n\n 
URL:http://zenecuador.org/event/sesshin-de-fin-de-ano-3/
LOCATION:Templo Zen Senkuji\, Templo Zen Zenkuji\, Tena\, Napo\, Ecuador
CATEGORIES:Sesshin
END:VEVENT
END:VCALENDAR